BEGIN:VCALENDAR
VERSION:2.0
PRODID:-//ATLANTE - ECPv5.16.1.1//NONSGML v1.0//EN
CALSCALE:GREGORIAN
METHOD:PUBLISH
X-ORIGINAL-URL:https://atlantetours.pt
X-WR-CALDESC:Events for ATLANTE
REFRESH-INTERVAL;VALUE=DURATION:PT1H
X-Robots-Tag:noindex
X-PUBLISHED-TTL:PT1H
BEGIN:VTIMEZONE
TZID:UTC
BEGIN:STANDARD
TZOFFSETFROM:+0000
TZOFFSETTO:+0000
TZNAME:UTC
DTSTART:20220101T000000
END:STANDARD
END:VTIMEZONE
BEGIN:VEVENT
DTSTART;TZID=UTC:20220730T150000
DTEND;TZID=UTC:20220730T160000
DTSTAMP:20260422T120728
CREATED:20220628T135434Z
LAST-MODIFIED:20220628T135508Z
UID:365-1659193200-1659196800@atlantetours.pt
SUMMARY:Casa do Moscadim
DESCRIPTION:A Casa do Moscadim\, localizada na artéria principal da Vila da Chamusca\, Rua Direita de São Pedro\, é uma casa senhorial do século XVIII. Considerada única na vila\, e uma das mais importantes da região\, a Casa distingue-se pela sua riqueza histórica e patrimonial\, nomeadamente pela relevante coleção de azulejos que se encontra no seu interior. A par da Casa do Patudos e da Casa-Estúdio Carlos Relvas\, a Casa do Moscadim será uma das mais importantes atrações patrimoniais da região.
URL:https://atlantetours.pt/event/casa-do-moscadim/
LOCATION:Casa do Moscadim\, R. Direira de São Pedro\, 276\, Chamusca\, 2140-098\, Portugal
CATEGORIES:Visitas Guiadas
ATTACH;FMTTYPE=image/jpeg:https://atlantetours.pt/wp-content/uploads/2022/06/P1077320-scaled.jpg
END:VEVENT
END:VCALENDAR